BEGIN:VCALENDAR
VERSION:2.0
PRODID:-//Snug Harbor Wine - ECPv6.15.17.1//NONSGML v1.0//EN
CALSCALE:GREGORIAN
METHOD:PUBLISH
X-ORIGINAL-URL:https://snugharborwine.com
X-WR-CALDESC:Events for Snug Harbor Wine
REFRESH-INTERVAL;VALUE=DURATION:PT1H
X-Robots-Tag:noindex
X-PUBLISHED-TTL:PT1H
BEGIN:VTIMEZONE
TZID:America/New_York
BEGIN:DAYLIGHT
TZOFFSETFROM:-0500
TZOFFSETTO:-0400
TZNAME:EDT
DTSTART:20230312T070000
END:DAYLIGHT
BEGIN:STANDARD
TZOFFSETFROM:-0400
TZOFFSETTO:-0500
TZNAME:EST
DTSTART:20231105T060000
END:STANDARD
BEGIN:DAYLIGHT
TZOFFSETFROM:-0500
TZOFFSETTO:-0400
TZNAME:EDT
DTSTART:20240310T070000
END:DAYLIGHT
BEGIN:STANDARD
TZOFFSETFROM:-0400
TZOFFSETTO:-0500
TZNAME:EST
DTSTART:20241103T060000
END:STANDARD
BEGIN:DAYLIGHT
TZOFFSETFROM:-0500
TZOFFSETTO:-0400
TZNAME:EDT
DTSTART:20250309T070000
END:DAYLIGHT
BEGIN:STANDARD
TZOFFSETFROM:-0400
TZOFFSETTO:-0500
TZNAME:EST
DTSTART:20251102T060000
END:STANDARD
END:VTIMEZONE
BEGIN:VEVENT
DTSTART;TZID=America/New_York:20241101T150000
DTEND;TZID=America/New_York:20241101T180000
DTSTAMP:20260420T032818
CREATED:20240309T170848Z
LAST-MODIFIED:20240502T215756Z
UID:10000068-1730473200-1730484000@snugharborwine.com
SUMMARY:Snug Harbor Wine | In-store Tasting
DESCRIPTION:
URL:https://snugharborwine.com/event/in-store-tasting/2024-11-01/
LOCATION:Snug Harbor Wine\, 459 Washington Street\, Duxbury\, MA\, 02332\, United States
CATEGORIES:In-store Wine Tasting
ATTACH;FMTTYPE=image/jpeg:https://snugharborwine.com/wp-content/uploads/2024/04/Weekend-Wines.jpg
END:VEVENT
BEGIN:VEVENT
DTSTART;TZID=America/New_York:20241102T150000
DTEND;TZID=America/New_York:20241102T180000
DTSTAMP:20260420T032818
CREATED:20240309T170848Z
LAST-MODIFIED:20240502T215756Z
UID:10000069-1730559600-1730570400@snugharborwine.com
SUMMARY:Snug Harbor Wine | In-store Tasting
DESCRIPTION:
URL:https://snugharborwine.com/event/in-store-tasting/2024-11-02/
LOCATION:Snug Harbor Wine\, 459 Washington Street\, Duxbury\, MA\, 02332\, United States
CATEGORIES:In-store Wine Tasting
ATTACH;FMTTYPE=image/jpeg:https://snugharborwine.com/wp-content/uploads/2024/04/Weekend-Wines.jpg
END:VEVENT
BEGIN:VEVENT
DTSTART;TZID=America/New_York:20241108T150000
DTEND;TZID=America/New_York:20241108T180000
DTSTAMP:20260420T032818
CREATED:20240309T170848Z
LAST-MODIFIED:20240502T215756Z
UID:10000070-1731078000-1731088800@snugharborwine.com
SUMMARY:Snug Harbor Wine | In-store Tasting
DESCRIPTION:
URL:https://snugharborwine.com/event/in-store-tasting/2024-11-08/
LOCATION:Snug Harbor Wine\, 459 Washington Street\, Duxbury\, MA\, 02332\, United States
CATEGORIES:In-store Wine Tasting
ATTACH;FMTTYPE=image/jpeg:https://snugharborwine.com/wp-content/uploads/2024/04/Weekend-Wines.jpg
END:VEVENT
BEGIN:VEVENT
DTSTART;TZID=America/New_York:20241109T150000
DTEND;TZID=America/New_York:20241109T180000
DTSTAMP:20260420T032818
CREATED:20240309T170848Z
LAST-MODIFIED:20240502T215756Z
UID:10000071-1731164400-1731175200@snugharborwine.com
SUMMARY:Snug Harbor Wine | In-store Tasting
DESCRIPTION:
URL:https://snugharborwine.com/event/in-store-tasting/2024-11-09/
LOCATION:Snug Harbor Wine\, 459 Washington Street\, Duxbury\, MA\, 02332\, United States
CATEGORIES:In-store Wine Tasting
ATTACH;FMTTYPE=image/jpeg:https://snugharborwine.com/wp-content/uploads/2024/04/Weekend-Wines.jpg
END:VEVENT
BEGIN:VEVENT
DTSTART;TZID=America/New_York:20241115T150000
DTEND;TZID=America/New_York:20241115T180000
DTSTAMP:20260420T032818
CREATED:20240309T170848Z
LAST-MODIFIED:20240502T215756Z
UID:10000072-1731682800-1731693600@snugharborwine.com
SUMMARY:Snug Harbor Wine | In-store Tasting
DESCRIPTION:
URL:https://snugharborwine.com/event/in-store-tasting/2024-11-15/
LOCATION:Snug Harbor Wine\, 459 Washington Street\, Duxbury\, MA\, 02332\, United States
CATEGORIES:In-store Wine Tasting
ATTACH;FMTTYPE=image/jpeg:https://snugharborwine.com/wp-content/uploads/2024/04/Weekend-Wines.jpg
END:VEVENT
BEGIN:VEVENT
DTSTART;TZID=America/New_York:20241116T150000
DTEND;TZID=America/New_York:20241116T180000
DTSTAMP:20260420T032818
CREATED:20240309T170848Z
LAST-MODIFIED:20240502T215756Z
UID:10000073-1731769200-1731780000@snugharborwine.com
SUMMARY:Snug Harbor Wine | In-store Tasting
DESCRIPTION:
URL:https://snugharborwine.com/event/in-store-tasting/2024-11-16/
LOCATION:Snug Harbor Wine\, 459 Washington Street\, Duxbury\, MA\, 02332\, United States
CATEGORIES:In-store Wine Tasting
ATTACH;FMTTYPE=image/jpeg:https://snugharborwine.com/wp-content/uploads/2024/04/Weekend-Wines.jpg
END:VEVENT
BEGIN:VEVENT
DTSTART;TZID=America/New_York:20241122T150000
DTEND;TZID=America/New_York:20241122T180000
DTSTAMP:20260420T032818
CREATED:20240309T170848Z
LAST-MODIFIED:20240502T215756Z
UID:10000074-1732287600-1732298400@snugharborwine.com
SUMMARY:Snug Harbor Wine | In-store Tasting
DESCRIPTION:
URL:https://snugharborwine.com/event/in-store-tasting/2024-11-22/
LOCATION:Snug Harbor Wine\, 459 Washington Street\, Duxbury\, MA\, 02332\, United States
CATEGORIES:In-store Wine Tasting
ATTACH;FMTTYPE=image/jpeg:https://snugharborwine.com/wp-content/uploads/2024/04/Weekend-Wines.jpg
END:VEVENT
BEGIN:VEVENT
DTSTART;TZID=America/New_York:20241123T150000
DTEND;TZID=America/New_York:20241123T180000
DTSTAMP:20260420T032818
CREATED:20240309T170848Z
LAST-MODIFIED:20240502T215756Z
UID:10000075-1732374000-1732384800@snugharborwine.com
SUMMARY:Snug Harbor Wine | In-store Tasting
DESCRIPTION:
URL:https://snugharborwine.com/event/in-store-tasting/2024-11-23/
LOCATION:Snug Harbor Wine\, 459 Washington Street\, Duxbury\, MA\, 02332\, United States
CATEGORIES:In-store Wine Tasting
ATTACH;FMTTYPE=image/jpeg:https://snugharborwine.com/wp-content/uploads/2024/04/Weekend-Wines.jpg
END:VEVENT
BEGIN:VEVENT
DTSTART;TZID=America/New_York:20241129T160000
DTEND;TZID=America/New_York:20241129T190000
DTSTAMP:20260420T032818
CREATED:20241125T213802Z
LAST-MODIFIED:20241125T213803Z
UID:10000076-1732896000-1732906800@snugharborwine.com
SUMMARY:Snug Harbor Wine | In-store Tasting
DESCRIPTION:
URL:https://snugharborwine.com/event/in-store-tasting-4/2024-11-29/
LOCATION:Snug Harbor Wine\, 459 Washington Street\, Duxbury\, MA\, 02332\, United States
CATEGORIES:In-store Wine Tasting
ATTACH;FMTTYPE=image/jpeg:https://snugharborwine.com/wp-content/uploads/2024/04/Wine-Tastings.jpg
END:VEVENT
BEGIN:VEVENT
DTSTART;TZID=America/New_York:20241130T160000
DTEND;TZID=America/New_York:20241130T190000
DTSTAMP:20260420T032818
CREATED:20241125T213802Z
LAST-MODIFIED:20241125T213803Z
UID:10000543-1732982400-1732993200@snugharborwine.com
SUMMARY:Snug Harbor Wine | In-store Tasting
DESCRIPTION:
URL:https://snugharborwine.com/event/in-store-tasting-4/2024-11-30/
LOCATION:Snug Harbor Wine\, 459 Washington Street\, Duxbury\, MA\, 02332\, United States
CATEGORIES:In-store Wine Tasting
ATTACH;FMTTYPE=image/jpeg:https://snugharborwine.com/wp-content/uploads/2024/04/Wine-Tastings.jpg
END:VEVENT
END:VCALENDAR