BEGIN:VCALENDAR
VERSION:2.0
PRODID:-//Snug Harbor Wine - ECPv6.15.20//NONSGML v1.0//EN
CALSCALE:GREGORIAN
METHOD:PUBLISH
X-ORIGINAL-URL:https://snugharborwine.com
X-WR-CALDESC:Events for Snug Harbor Wine
REFRESH-INTERVAL;VALUE=DURATION:PT1H
X-Robots-Tag:noindex
X-PUBLISHED-TTL:PT1H
BEGIN:VTIMEZONE
TZID:America/New_York
BEGIN:DAYLIGHT
TZOFFSETFROM:-0500
TZOFFSETTO:-0400
TZNAME:EDT
DTSTART:20230312T070000
END:DAYLIGHT
BEGIN:STANDARD
TZOFFSETFROM:-0400
TZOFFSETTO:-0500
TZNAME:EST
DTSTART:20231105T060000
END:STANDARD
BEGIN:DAYLIGHT
TZOFFSETFROM:-0500
TZOFFSETTO:-0400
TZNAME:EDT
DTSTART:20240310T070000
END:DAYLIGHT
BEGIN:STANDARD
TZOFFSETFROM:-0400
TZOFFSETTO:-0500
TZNAME:EST
DTSTART:20241103T060000
END:STANDARD
BEGIN:DAYLIGHT
TZOFFSETFROM:-0500
TZOFFSETTO:-0400
TZNAME:EDT
DTSTART:20250309T070000
END:DAYLIGHT
BEGIN:STANDARD
TZOFFSETFROM:-0400
TZOFFSETTO:-0500
TZNAME:EST
DTSTART:20251102T060000
END:STANDARD
END:VTIMEZONE
BEGIN:VEVENT
DTSTART;TZID=America/New_York:20241004T150000
DTEND;TZID=America/New_York:20241004T180000
DTSTAMP:20260424T151134
CREATED:20240309T170848Z
LAST-MODIFIED:20240502T215756Z
UID:10000060-1728054000-1728064800@snugharborwine.com
SUMMARY:Snug Harbor Wine | In-store Tasting
DESCRIPTION:
URL:https://snugharborwine.com/event/in-store-tasting/2024-10-04/
LOCATION:Snug Harbor Wine\, 459 Washington Street\, Duxbury\, MA\, 02332\, United States
CATEGORIES:In-store Wine Tasting
ATTACH;FMTTYPE=image/jpeg:https://snugharborwine.com/wp-content/uploads/2024/04/Weekend-Wines.jpg
END:VEVENT
BEGIN:VEVENT
DTSTART;TZID=America/New_York:20241005T150000
DTEND;TZID=America/New_York:20241005T180000
DTSTAMP:20260424T151134
CREATED:20240309T170848Z
LAST-MODIFIED:20240502T215756Z
UID:10000061-1728140400-1728151200@snugharborwine.com
SUMMARY:Snug Harbor Wine | In-store Tasting
DESCRIPTION:
URL:https://snugharborwine.com/event/in-store-tasting/2024-10-05/
LOCATION:Snug Harbor Wine\, 459 Washington Street\, Duxbury\, MA\, 02332\, United States
CATEGORIES:In-store Wine Tasting
ATTACH;FMTTYPE=image/jpeg:https://snugharborwine.com/wp-content/uploads/2024/04/Weekend-Wines.jpg
END:VEVENT
BEGIN:VEVENT
DTSTART;TZID=America/New_York:20241011T150000
DTEND;TZID=America/New_York:20241011T180000
DTSTAMP:20260424T151134
CREATED:20240309T170848Z
LAST-MODIFIED:20240502T215756Z
UID:10000062-1728658800-1728669600@snugharborwine.com
SUMMARY:Snug Harbor Wine | In-store Tasting
DESCRIPTION:
URL:https://snugharborwine.com/event/in-store-tasting/2024-10-11/
LOCATION:Snug Harbor Wine\, 459 Washington Street\, Duxbury\, MA\, 02332\, United States
CATEGORIES:In-store Wine Tasting
ATTACH;FMTTYPE=image/jpeg:https://snugharborwine.com/wp-content/uploads/2024/04/Weekend-Wines.jpg
END:VEVENT
BEGIN:VEVENT
DTSTART;TZID=America/New_York:20241012T150000
DTEND;TZID=America/New_York:20241012T180000
DTSTAMP:20260424T151134
CREATED:20240309T170848Z
LAST-MODIFIED:20240502T215756Z
UID:10000063-1728745200-1728756000@snugharborwine.com
SUMMARY:Snug Harbor Wine | In-store Tasting
DESCRIPTION:
URL:https://snugharborwine.com/event/in-store-tasting/2024-10-12/
LOCATION:Snug Harbor Wine\, 459 Washington Street\, Duxbury\, MA\, 02332\, United States
CATEGORIES:In-store Wine Tasting
ATTACH;FMTTYPE=image/jpeg:https://snugharborwine.com/wp-content/uploads/2024/04/Weekend-Wines.jpg
END:VEVENT
BEGIN:VEVENT
DTSTART;TZID=America/New_York:20241018T150000
DTEND;TZID=America/New_York:20241018T180000
DTSTAMP:20260424T151134
CREATED:20240309T170848Z
LAST-MODIFIED:20240502T215756Z
UID:10000064-1729263600-1729274400@snugharborwine.com
SUMMARY:Snug Harbor Wine | In-store Tasting
DESCRIPTION:
URL:https://snugharborwine.com/event/in-store-tasting/2024-10-18/
LOCATION:Snug Harbor Wine\, 459 Washington Street\, Duxbury\, MA\, 02332\, United States
CATEGORIES:In-store Wine Tasting
ATTACH;FMTTYPE=image/jpeg:https://snugharborwine.com/wp-content/uploads/2024/04/Weekend-Wines.jpg
END:VEVENT
BEGIN:VEVENT
DTSTART;TZID=America/New_York:20241019T150000
DTEND;TZID=America/New_York:20241019T180000
DTSTAMP:20260424T151134
CREATED:20240309T170848Z
LAST-MODIFIED:20240502T215756Z
UID:10000065-1729350000-1729360800@snugharborwine.com
SUMMARY:Snug Harbor Wine | In-store Tasting
DESCRIPTION:
URL:https://snugharborwine.com/event/in-store-tasting/2024-10-19/
LOCATION:Snug Harbor Wine\, 459 Washington Street\, Duxbury\, MA\, 02332\, United States
CATEGORIES:In-store Wine Tasting
ATTACH;FMTTYPE=image/jpeg:https://snugharborwine.com/wp-content/uploads/2024/04/Weekend-Wines.jpg
END:VEVENT
BEGIN:VEVENT
DTSTART;TZID=America/New_York:20241025T150000
DTEND;TZID=America/New_York:20241025T180000
DTSTAMP:20260424T151134
CREATED:20240309T170848Z
LAST-MODIFIED:20240502T215756Z
UID:10000066-1729868400-1729879200@snugharborwine.com
SUMMARY:Snug Harbor Wine | In-store Tasting
DESCRIPTION:
URL:https://snugharborwine.com/event/in-store-tasting/2024-10-25/
LOCATION:Snug Harbor Wine\, 459 Washington Street\, Duxbury\, MA\, 02332\, United States
CATEGORIES:In-store Wine Tasting
ATTACH;FMTTYPE=image/jpeg:https://snugharborwine.com/wp-content/uploads/2024/04/Weekend-Wines.jpg
END:VEVENT
BEGIN:VEVENT
DTSTART;TZID=America/New_York:20241026T150000
DTEND;TZID=America/New_York:20241026T180000
DTSTAMP:20260424T151134
CREATED:20240309T170848Z
LAST-MODIFIED:20240502T215756Z
UID:10000067-1729954800-1729965600@snugharborwine.com
SUMMARY:Snug Harbor Wine | In-store Tasting
DESCRIPTION:
URL:https://snugharborwine.com/event/in-store-tasting/2024-10-26/
LOCATION:Snug Harbor Wine\, 459 Washington Street\, Duxbury\, MA\, 02332\, United States
CATEGORIES:In-store Wine Tasting
ATTACH;FMTTYPE=image/jpeg:https://snugharborwine.com/wp-content/uploads/2024/04/Weekend-Wines.jpg
END:VEVENT
END:VCALENDAR