BEGIN:VCALENDAR
VERSION:2.0
PRODID:-//Snug Harbor Wine - ECPv6.15.17.1//NONSGML v1.0//EN
CALSCALE:GREGORIAN
METHOD:PUBLISH
X-ORIGINAL-URL:https://snugharborwine.com
X-WR-CALDESC:Events for Snug Harbor Wine
REFRESH-INTERVAL;VALUE=DURATION:PT1H
X-Robots-Tag:noindex
X-PUBLISHED-TTL:PT1H
BEGIN:VTIMEZONE
TZID:America/New_York
BEGIN:DAYLIGHT
TZOFFSETFROM:-0500
TZOFFSETTO:-0400
TZNAME:EDT
DTSTART:20230312T070000
END:DAYLIGHT
BEGIN:STANDARD
TZOFFSETFROM:-0400
TZOFFSETTO:-0500
TZNAME:EST
DTSTART:20231105T060000
END:STANDARD
BEGIN:DAYLIGHT
TZOFFSETFROM:-0500
TZOFFSETTO:-0400
TZNAME:EDT
DTSTART:20240310T070000
END:DAYLIGHT
BEGIN:STANDARD
TZOFFSETFROM:-0400
TZOFFSETTO:-0500
TZNAME:EST
DTSTART:20241103T060000
END:STANDARD
BEGIN:DAYLIGHT
TZOFFSETFROM:-0500
TZOFFSETTO:-0400
TZNAME:EDT
DTSTART:20250309T070000
END:DAYLIGHT
BEGIN:STANDARD
TZOFFSETFROM:-0400
TZOFFSETTO:-0500
TZNAME:EST
DTSTART:20251102T060000
END:STANDARD
END:VTIMEZONE
BEGIN:VEVENT
DTSTART;TZID=America/New_York:20240619T180000
DTEND;TZID=America/New_York:20240619T213000
DTSTAMP:20260419T225103
CREATED:20240508T003210Z
LAST-MODIFIED:20240614T112856Z
UID:10000541-1718820000-1718832600@snugharborwine.com
SUMMARY:Merriam Vineyards Wine Dinner at Belfry Inn & Bistro [SOLD OUT]
DESCRIPTION:Join Peter Merriam for an exclusive evening showcasing his wine with Belfry Chef Nicci’s paired food selections. \nCost: $73 per person Call 508-888-8550 for reservations. Space is limited. \nMenu\nSAUVIGNON BLANC\, RUSSIAN RIVER 2022\nThai Crab Napoleon | Vanilla Pineapple | Lychee Vinaigrette \nCHARDONNAY\, RUSSIAN RIVER 2022\nFlorentine Sole | Pea Mousseline | Meyer Lemon Beurre Blanc \nPINOT NOIR\, RUSSIAN RIVER 2021\nRaspberry Duck | Spiced Yam | Blackberry Gastrique \nCABERNET SAUVIGNON\, RUSSIAN RIVER 2020\nLamb Moussaka | Crispy Shallots | Roast Plum \n 
URL:https://snugharborwine.com/event/merriam-vineyards-wine-dinner-at-belfry-inn-bistro/
LOCATION:Belfry Inn & Bistro\, 6 Jarves St.\, Sandwich\, MA\, 02563\, United States
CATEGORIES:Wine Dinner
ATTACH;FMTTYPE=image/jpeg:https://snugharborwine.com/wp-content/uploads/2024/06/Wine-Dinner-June-19-SOLD-OUT.jpg
END:VEVENT
BEGIN:VEVENT
DTSTART;TZID=America/New_York:20240327T180000
DTEND;TZID=America/New_York:20240327T220000
DTSTAMP:20260419T225103
CREATED:20240308T202725Z
LAST-MODIFIED:20240308T202815Z
UID:10000001-1711562400-1711576800@snugharborwine.com
SUMMARY:A Wine Pairing Dinner at E2 Kitchen & Bar
DESCRIPTION:A Wine Pairing Dinner “Croatia: Inspiring Istria”  \nWednesday\, March 27 at 6:00pm\n$75/pp not incl. tax & Gratuity \nReservations: (978) 340 5257\nLimited Seating Available \nE/2 Kitchen Bar\n459 Plain St.\nMarshfield\, MA 02050
URL:https://snugharborwine.com/event/a-wine-pairing-dinner-at-e2-kitchen-bar/
LOCATION:E2 Kitchen & Bar\, 459 Plain Street\, Marshfield\, MA\, 02050\, United States
CATEGORIES:Wine Dinner
ATTACH;FMTTYPE=image/jpeg:https://snugharborwine.com/wp-content/uploads/2024/03/Croatia-Wine-Pairing-Dinner.jpg
ORGANIZER;CN="Snug Harbor Wine":MAILTO:tracy@snugharborwine.com
END:VEVENT
END:VCALENDAR