BEGIN:VCALENDAR
VERSION:2.0
PRODID:-//Snug Harbor Wine - ECPv6.15.17.1//NONSGML v1.0//EN
CALSCALE:GREGORIAN
METHOD:PUBLISH
X-ORIGINAL-URL:https://snugharborwine.com
X-WR-CALDESC:Events for Snug Harbor Wine
REFRESH-INTERVAL;VALUE=DURATION:PT1H
X-Robots-Tag:noindex
X-PUBLISHED-TTL:PT1H
BEGIN:VTIMEZONE
TZID:America/New_York
BEGIN:DAYLIGHT
TZOFFSETFROM:-0500
TZOFFSETTO:-0400
TZNAME:EDT
DTSTART:20250309T070000
END:DAYLIGHT
BEGIN:STANDARD
TZOFFSETFROM:-0400
TZOFFSETTO:-0500
TZNAME:EST
DTSTART:20251102T060000
END:STANDARD
BEGIN:DAYLIGHT
TZOFFSETFROM:-0500
TZOFFSETTO:-0400
TZNAME:EDT
DTSTART:20260308T070000
END:DAYLIGHT
BEGIN:STANDARD
TZOFFSETFROM:-0400
TZOFFSETTO:-0500
TZNAME:EST
DTSTART:20261101T060000
END:STANDARD
BEGIN:DAYLIGHT
TZOFFSETFROM:-0500
TZOFFSETTO:-0400
TZNAME:EDT
DTSTART:20270314T070000
END:DAYLIGHT
BEGIN:STANDARD
TZOFFSETFROM:-0400
TZOFFSETTO:-0500
TZNAME:EST
DTSTART:20271107T060000
END:STANDARD
END:VTIMEZONE
BEGIN:VEVENT
DTSTART;TZID=America/New_York:20260102T160000
DTEND;TZID=America/New_York:20260102T190000
DTSTAMP:20260420T123147
CREATED:20241125T213802Z
LAST-MODIFIED:20241125T213803Z
UID:10000656-1767369600-1767380400@snugharborwine.com
SUMMARY:Snug Harbor Wine | In-store Tasting
DESCRIPTION:
URL:https://snugharborwine.com/event/in-store-tasting-4/2026-01-02/
LOCATION:Snug Harbor Wine\, 459 Washington Street\, Duxbury\, MA\, 02332\, United States
CATEGORIES:In-store Wine Tasting
ATTACH;FMTTYPE=image/jpeg:https://snugharborwine.com/wp-content/uploads/2024/04/Wine-Tastings.jpg
END:VEVENT
BEGIN:VEVENT
DTSTART;TZID=America/New_York:20260103T160000
DTEND;TZID=America/New_York:20260103T190000
DTSTAMP:20260420T123147
CREATED:20241125T213802Z
LAST-MODIFIED:20241125T213803Z
UID:10000657-1767456000-1767466800@snugharborwine.com
SUMMARY:Snug Harbor Wine | In-store Tasting
DESCRIPTION:
URL:https://snugharborwine.com/event/in-store-tasting-4/2026-01-03/
LOCATION:Snug Harbor Wine\, 459 Washington Street\, Duxbury\, MA\, 02332\, United States
CATEGORIES:In-store Wine Tasting
ATTACH;FMTTYPE=image/jpeg:https://snugharborwine.com/wp-content/uploads/2024/04/Wine-Tastings.jpg
END:VEVENT
BEGIN:VEVENT
DTSTART;TZID=America/New_York:20260109T160000
DTEND;TZID=America/New_York:20260109T190000
DTSTAMP:20260420T123147
CREATED:20241125T213802Z
LAST-MODIFIED:20241125T213803Z
UID:10000658-1767974400-1767985200@snugharborwine.com
SUMMARY:Snug Harbor Wine | In-store Tasting
DESCRIPTION:
URL:https://snugharborwine.com/event/in-store-tasting-4/2026-01-09/
LOCATION:Snug Harbor Wine\, 459 Washington Street\, Duxbury\, MA\, 02332\, United States
CATEGORIES:In-store Wine Tasting
ATTACH;FMTTYPE=image/jpeg:https://snugharborwine.com/wp-content/uploads/2024/04/Wine-Tastings.jpg
END:VEVENT
BEGIN:VEVENT
DTSTART;TZID=America/New_York:20260110T160000
DTEND;TZID=America/New_York:20260110T190000
DTSTAMP:20260420T123147
CREATED:20241125T213802Z
LAST-MODIFIED:20241125T213803Z
UID:10000659-1768060800-1768071600@snugharborwine.com
SUMMARY:Snug Harbor Wine | In-store Tasting
DESCRIPTION:
URL:https://snugharborwine.com/event/in-store-tasting-4/2026-01-10/
LOCATION:Snug Harbor Wine\, 459 Washington Street\, Duxbury\, MA\, 02332\, United States
CATEGORIES:In-store Wine Tasting
ATTACH;FMTTYPE=image/jpeg:https://snugharborwine.com/wp-content/uploads/2024/04/Wine-Tastings.jpg
END:VEVENT
BEGIN:VEVENT
DTSTART;TZID=America/New_York:20260116T160000
DTEND;TZID=America/New_York:20260116T190000
DTSTAMP:20260420T123147
CREATED:20241125T213802Z
LAST-MODIFIED:20241125T213803Z
UID:10000660-1768579200-1768590000@snugharborwine.com
SUMMARY:Snug Harbor Wine | In-store Tasting
DESCRIPTION:
URL:https://snugharborwine.com/event/in-store-tasting-4/2026-01-16/
LOCATION:Snug Harbor Wine\, 459 Washington Street\, Duxbury\, MA\, 02332\, United States
CATEGORIES:In-store Wine Tasting
ATTACH;FMTTYPE=image/jpeg:https://snugharborwine.com/wp-content/uploads/2024/04/Wine-Tastings.jpg
END:VEVENT
BEGIN:VEVENT
DTSTART;TZID=America/New_York:20260117T160000
DTEND;TZID=America/New_York:20260117T190000
DTSTAMP:20260420T123147
CREATED:20241125T213802Z
LAST-MODIFIED:20241125T213803Z
UID:10000661-1768665600-1768676400@snugharborwine.com
SUMMARY:Snug Harbor Wine | In-store Tasting
DESCRIPTION:
URL:https://snugharborwine.com/event/in-store-tasting-4/2026-01-17/
LOCATION:Snug Harbor Wine\, 459 Washington Street\, Duxbury\, MA\, 02332\, United States
CATEGORIES:In-store Wine Tasting
ATTACH;FMTTYPE=image/jpeg:https://snugharborwine.com/wp-content/uploads/2024/04/Wine-Tastings.jpg
END:VEVENT
BEGIN:VEVENT
DTSTART;TZID=America/New_York:20260123T160000
DTEND;TZID=America/New_York:20260123T190000
DTSTAMP:20260420T123147
CREATED:20241125T213802Z
LAST-MODIFIED:20241125T213803Z
UID:10000662-1769184000-1769194800@snugharborwine.com
SUMMARY:Snug Harbor Wine | In-store Tasting
DESCRIPTION:
URL:https://snugharborwine.com/event/in-store-tasting-4/2026-01-23/
LOCATION:Snug Harbor Wine\, 459 Washington Street\, Duxbury\, MA\, 02332\, United States
CATEGORIES:In-store Wine Tasting
ATTACH;FMTTYPE=image/jpeg:https://snugharborwine.com/wp-content/uploads/2024/04/Wine-Tastings.jpg
END:VEVENT
BEGIN:VEVENT
DTSTART;TZID=America/New_York:20260124T160000
DTEND;TZID=America/New_York:20260124T190000
DTSTAMP:20260420T123147
CREATED:20241125T213802Z
LAST-MODIFIED:20241125T213803Z
UID:10000663-1769270400-1769281200@snugharborwine.com
SUMMARY:Snug Harbor Wine | In-store Tasting
DESCRIPTION:
URL:https://snugharborwine.com/event/in-store-tasting-4/2026-01-24/
LOCATION:Snug Harbor Wine\, 459 Washington Street\, Duxbury\, MA\, 02332\, United States
CATEGORIES:In-store Wine Tasting
ATTACH;FMTTYPE=image/jpeg:https://snugharborwine.com/wp-content/uploads/2024/04/Wine-Tastings.jpg
END:VEVENT
BEGIN:VEVENT
DTSTART;TZID=America/New_York:20260130T160000
DTEND;TZID=America/New_York:20260130T190000
DTSTAMP:20260420T123147
CREATED:20241125T213802Z
LAST-MODIFIED:20241125T213803Z
UID:10000664-1769788800-1769799600@snugharborwine.com
SUMMARY:Snug Harbor Wine | In-store Tasting
DESCRIPTION:
URL:https://snugharborwine.com/event/in-store-tasting-4/2026-01-30/
LOCATION:Snug Harbor Wine\, 459 Washington Street\, Duxbury\, MA\, 02332\, United States
CATEGORIES:In-store Wine Tasting
ATTACH;FMTTYPE=image/jpeg:https://snugharborwine.com/wp-content/uploads/2024/04/Wine-Tastings.jpg
END:VEVENT
BEGIN:VEVENT
DTSTART;TZID=America/New_York:20260131T160000
DTEND;TZID=America/New_York:20260131T190000
DTSTAMP:20260420T123147
CREATED:20241125T213802Z
LAST-MODIFIED:20241125T213803Z
UID:10000665-1769875200-1769886000@snugharborwine.com
SUMMARY:Snug Harbor Wine | In-store Tasting
DESCRIPTION:
URL:https://snugharborwine.com/event/in-store-tasting-4/2026-01-31/
LOCATION:Snug Harbor Wine\, 459 Washington Street\, Duxbury\, MA\, 02332\, United States
CATEGORIES:In-store Wine Tasting
ATTACH;FMTTYPE=image/jpeg:https://snugharborwine.com/wp-content/uploads/2024/04/Wine-Tastings.jpg
END:VEVENT
END:VCALENDAR