BEGIN:VCALENDAR
VERSION:2.0
PRODID:-//Snug Harbor Wine - ECPv6.15.17.1//NONSGML v1.0//EN
CALSCALE:GREGORIAN
METHOD:PUBLISH
X-WR-CALNAME:Snug Harbor Wine
X-ORIGINAL-URL:https://snugharborwine.com
X-WR-CALDESC:Events for Snug Harbor Wine
REFRESH-INTERVAL;VALUE=DURATION:PT1H
X-Robots-Tag:noindex
X-PUBLISHED-TTL:PT1H
BEGIN:VTIMEZONE
TZID:America/New_York
BEGIN:DAYLIGHT
TZOFFSETFROM:-0500
TZOFFSETTO:-0400
TZNAME:EDT
DTSTART:20240310T070000
END:DAYLIGHT
BEGIN:STANDARD
TZOFFSETFROM:-0400
TZOFFSETTO:-0500
TZNAME:EST
DTSTART:20241103T060000
END:STANDARD
BEGIN:DAYLIGHT
TZOFFSETFROM:-0500
TZOFFSETTO:-0400
TZNAME:EDT
DTSTART:20250309T070000
END:DAYLIGHT
BEGIN:STANDARD
TZOFFSETFROM:-0400
TZOFFSETTO:-0500
TZNAME:EST
DTSTART:20251102T060000
END:STANDARD
BEGIN:DAYLIGHT
TZOFFSETFROM:-0500
TZOFFSETTO:-0400
TZNAME:EDT
DTSTART:20260308T070000
END:DAYLIGHT
BEGIN:STANDARD
TZOFFSETFROM:-0400
TZOFFSETTO:-0500
TZNAME:EST
DTSTART:20261101T060000
END:STANDARD
END:VTIMEZONE
BEGIN:VEVENT
DTSTART;TZID=America/New_York:20250801T160000
DTEND;TZID=America/New_York:20250801T190000
DTSTAMP:20260422T080948
CREATED:20241125T213802Z
LAST-MODIFIED:20241125T213803Z
UID:10000612-1754064000-1754074800@snugharborwine.com
SUMMARY:Snug Harbor Wine | In-store Tasting
DESCRIPTION:
URL:https://snugharborwine.com/event/in-store-tasting-4/2025-08-01/
LOCATION:Snug Harbor Wine\, 459 Washington Street\, Duxbury\, MA\, 02332\, United States
CATEGORIES:In-store Wine Tasting
ATTACH;FMTTYPE=image/jpeg:https://snugharborwine.com/wp-content/uploads/2024/04/Wine-Tastings.jpg
END:VEVENT
BEGIN:VEVENT
DTSTART;TZID=America/New_York:20250802T160000
DTEND;TZID=America/New_York:20250802T190000
DTSTAMP:20260422T080948
CREATED:20241125T213802Z
LAST-MODIFIED:20241125T213803Z
UID:10000613-1754150400-1754161200@snugharborwine.com
SUMMARY:Snug Harbor Wine | In-store Tasting
DESCRIPTION:
URL:https://snugharborwine.com/event/in-store-tasting-4/2025-08-02/
LOCATION:Snug Harbor Wine\, 459 Washington Street\, Duxbury\, MA\, 02332\, United States
CATEGORIES:In-store Wine Tasting
ATTACH;FMTTYPE=image/jpeg:https://snugharborwine.com/wp-content/uploads/2024/04/Wine-Tastings.jpg
END:VEVENT
BEGIN:VEVENT
DTSTART;TZID=America/New_York:20250808T160000
DTEND;TZID=America/New_York:20250808T190000
DTSTAMP:20260422T080948
CREATED:20241125T213802Z
LAST-MODIFIED:20241125T213803Z
UID:10000614-1754668800-1754679600@snugharborwine.com
SUMMARY:Snug Harbor Wine | In-store Tasting
DESCRIPTION:
URL:https://snugharborwine.com/event/in-store-tasting-4/2025-08-08/
LOCATION:Snug Harbor Wine\, 459 Washington Street\, Duxbury\, MA\, 02332\, United States
CATEGORIES:In-store Wine Tasting
ATTACH;FMTTYPE=image/jpeg:https://snugharborwine.com/wp-content/uploads/2024/04/Wine-Tastings.jpg
END:VEVENT
BEGIN:VEVENT
DTSTART;TZID=America/New_York:20250809T160000
DTEND;TZID=America/New_York:20250809T190000
DTSTAMP:20260422T080948
CREATED:20241125T213802Z
LAST-MODIFIED:20241125T213803Z
UID:10000615-1754755200-1754766000@snugharborwine.com
SUMMARY:Snug Harbor Wine | In-store Tasting
DESCRIPTION:
URL:https://snugharborwine.com/event/in-store-tasting-4/2025-08-09/
LOCATION:Snug Harbor Wine\, 459 Washington Street\, Duxbury\, MA\, 02332\, United States
CATEGORIES:In-store Wine Tasting
ATTACH;FMTTYPE=image/jpeg:https://snugharborwine.com/wp-content/uploads/2024/04/Wine-Tastings.jpg
END:VEVENT
BEGIN:VEVENT
DTSTART;TZID=America/New_York:20250815T160000
DTEND;TZID=America/New_York:20250815T190000
DTSTAMP:20260422T080948
CREATED:20241125T213802Z
LAST-MODIFIED:20241125T213803Z
UID:10000616-1755273600-1755284400@snugharborwine.com
SUMMARY:Snug Harbor Wine | In-store Tasting
DESCRIPTION:
URL:https://snugharborwine.com/event/in-store-tasting-4/2025-08-15/
LOCATION:Snug Harbor Wine\, 459 Washington Street\, Duxbury\, MA\, 02332\, United States
CATEGORIES:In-store Wine Tasting
ATTACH;FMTTYPE=image/jpeg:https://snugharborwine.com/wp-content/uploads/2024/04/Wine-Tastings.jpg
END:VEVENT
BEGIN:VEVENT
DTSTART;TZID=America/New_York:20250816T160000
DTEND;TZID=America/New_York:20250816T190000
DTSTAMP:20260422T080948
CREATED:20241125T213802Z
LAST-MODIFIED:20241125T213803Z
UID:10000617-1755360000-1755370800@snugharborwine.com
SUMMARY:Snug Harbor Wine | In-store Tasting
DESCRIPTION:
URL:https://snugharborwine.com/event/in-store-tasting-4/2025-08-16/
LOCATION:Snug Harbor Wine\, 459 Washington Street\, Duxbury\, MA\, 02332\, United States
CATEGORIES:In-store Wine Tasting
ATTACH;FMTTYPE=image/jpeg:https://snugharborwine.com/wp-content/uploads/2024/04/Wine-Tastings.jpg
END:VEVENT
BEGIN:VEVENT
DTSTART;TZID=America/New_York:20250822T160000
DTEND;TZID=America/New_York:20250822T190000
DTSTAMP:20260422T080948
CREATED:20241125T213802Z
LAST-MODIFIED:20241125T213803Z
UID:10000618-1755878400-1755889200@snugharborwine.com
SUMMARY:Snug Harbor Wine | In-store Tasting
DESCRIPTION:
URL:https://snugharborwine.com/event/in-store-tasting-4/2025-08-22/
LOCATION:Snug Harbor Wine\, 459 Washington Street\, Duxbury\, MA\, 02332\, United States
CATEGORIES:In-store Wine Tasting
ATTACH;FMTTYPE=image/jpeg:https://snugharborwine.com/wp-content/uploads/2024/04/Wine-Tastings.jpg
END:VEVENT
BEGIN:VEVENT
DTSTART;TZID=America/New_York:20250823T160000
DTEND;TZID=America/New_York:20250823T190000
DTSTAMP:20260422T080948
CREATED:20241125T213802Z
LAST-MODIFIED:20241125T213803Z
UID:10000619-1755964800-1755975600@snugharborwine.com
SUMMARY:Snug Harbor Wine | In-store Tasting
DESCRIPTION:
URL:https://snugharborwine.com/event/in-store-tasting-4/2025-08-23/
LOCATION:Snug Harbor Wine\, 459 Washington Street\, Duxbury\, MA\, 02332\, United States
CATEGORIES:In-store Wine Tasting
ATTACH;FMTTYPE=image/jpeg:https://snugharborwine.com/wp-content/uploads/2024/04/Wine-Tastings.jpg
END:VEVENT
BEGIN:VEVENT
DTSTART;TZID=America/New_York:20250829T160000
DTEND;TZID=America/New_York:20250829T190000
DTSTAMP:20260422T080948
CREATED:20241125T213802Z
LAST-MODIFIED:20241125T213803Z
UID:10000620-1756483200-1756494000@snugharborwine.com
SUMMARY:Snug Harbor Wine | In-store Tasting
DESCRIPTION:
URL:https://snugharborwine.com/event/in-store-tasting-4/2025-08-29/
LOCATION:Snug Harbor Wine\, 459 Washington Street\, Duxbury\, MA\, 02332\, United States
CATEGORIES:In-store Wine Tasting
ATTACH;FMTTYPE=image/jpeg:https://snugharborwine.com/wp-content/uploads/2024/04/Wine-Tastings.jpg
END:VEVENT
BEGIN:VEVENT
DTSTART;TZID=America/New_York:20250830T160000
DTEND;TZID=America/New_York:20250830T190000
DTSTAMP:20260422T080948
CREATED:20241125T213802Z
LAST-MODIFIED:20241125T213803Z
UID:10000621-1756569600-1756580400@snugharborwine.com
SUMMARY:Snug Harbor Wine | In-store Tasting
DESCRIPTION:
URL:https://snugharborwine.com/event/in-store-tasting-4/2025-08-30/
LOCATION:Snug Harbor Wine\, 459 Washington Street\, Duxbury\, MA\, 02332\, United States
CATEGORIES:In-store Wine Tasting
ATTACH;FMTTYPE=image/jpeg:https://snugharborwine.com/wp-content/uploads/2024/04/Wine-Tastings.jpg
END:VEVENT
END:VCALENDAR